BEGIN:VCALENDAR
VERSION:2.0
PRODID:-//Department Of Education//8290f45d-e0f9-40c4-9c74-b7c9153873d1
BEGIN:VTIMEZONE
TZID:Australia/Sydney
TZURL:http://tzurl.org/zoneinfo-outlook/Australia/Sydney
X-LIC-LOCATION:Australia/Sydney
BEGIN:STANDARD
TZOFFSETFROM:+1100
TZOFFSETTO:+1000
TZNAME:AEST
DTSTART:19700405T030000
RRULE:FREQ=YEARLY;BYMONTH=4;BYDAY=1SU
END:STANDARD
BEGIN:DAYLIGHT
TZOFFSETFROM:+1000
TZOFFSETTO:+1100
TZNAME:AEDT
DTSTART:19701004T020000
RRULE:FREQ=YEARLY;BYMONTH=10;BYDAY=1SU
END:DAYLIGHT
END:VTIMEZONE
CALSCALE:GREGORIAN
X-WR-TIMEZONE:Australia/Sydney
BEGIN:VEVENT
DTSTART;TZID=Australia/Sydney:20200407T160000
DTEND;TZID=Australia/Sydney:20200407T180000
DTSTAMP:20200407T000000Z
UID:50e7eb15-ba93-47de-8e8f-9e22c8577cde
LOCATION:Waratah Campus Hall
SUMMARY;LANGUAGE=en-us:Informal Parent Teacher afternoon
SEQUENCE:0
DESCRIPTION:An opportunity to informally meet with teachers to discuss your child's progress during Term 1.  More formal Parent Teacher Interviews will take place at the beginning of Term 3. Please enter the school via the Harris St gate behind the Hall. Families are welcome.   
END:VEVENT
TRANSP:TRANSPARENT
END:VCALENDAR
